BEGIN:VCALENDAR
PRODID:-//nzccp.co.nz//EN
VERSION:2.0
METHOD:PUBLISH
BEGIN:VEVENT
DTSTART;TZID=America/New_York:2020026T9
DTEND;TZID=America/New_York:2020029T17
URL:https://nzccp.co.nz/events/conferences/new-calendar-event-2/
SUMMARY:NZCCP 31st National Conference “Tui, tui, tui, tuia”, 28 &amp; 29 March 2020
LOCATION:
DESCRIPTION:REGISTRATIONS OPENfor

NZCCP 31st National Conference

“Tui, tui, tui, tuia” &quot;Bind, join, be united as one&quot;

Psychology: Foundations and Integration 

Saturday 28 &amp; Sunday 29 March, 2020

Chateau on the Park, Christchurch

SUBMIT YOUR POSTER ABSTRACT HERE(Please email office@nzccp. co.
END:VEVENT
END:VCALENDAR