BEGIN:VCALENDAR
PRODID:-//nzccp.co.nz//EN
VERSION:2.0
METHOD:PUBLISH
BEGIN:VEVENT
DTSTART;TZID=America/New_York:2021027T9
DTEND;TZID=America/New_York:2021028T17
URL:https://nzccp.co.nz/events/conferences/new-calendar-event-2/
SUMMARY:NZCCP 31st National Conference “Tui, tui, tui, tuia”, Christchurch, 25-28 March
LOCATION:
DESCRIPTION:REGISTER NOW 

  NZCCP 31st National Conference

“Tui, tui, tui, tuia” &quot;Bind, join, be united as one&quot;

Saturday 27 &amp; Sunday 28 March, 2021 

Rydges Latimer Christchurch

Download the conference flyer for more information

Preconference workshop, Thursday 25 March, 9am-4pm: “He Puna Whakaata”, presented by Andre McLachlan &amp; Sarah (Hera) Kinred.
END:VEVENT
END:VCALENDAR