BEGIN:VCALENDAR
PRODID:-//nzccp.co.nz//EN
VERSION:2.0
METHOD:PUBLISH
BEGIN:VEVENT
DTSTART;TZID=America/New_York:2020023T9
DTEND;TZID=America/New_York:2020023T17
URL:https://nzccp.co.nz/events/workshops-and-seminars/the-call-of-darkness-managing-suicidality-in-clinical-practice-wellington-23-march/
SUMMARY:THE CALL OF DARKNESS: MANAGING SUICIDALITY IN CLINICAL PRACTICE, Wellington, 23 March
LOCATION:
DESCRIPTION:One day workshop for health professionals
Monday 23 March 2020
Te Papa, Wellington

registrations have opened
http://nzap. org. nz/event/the-call-of-darkness-managing-suicidality-in-clinical-practice-workshop-wellington/

Last year there were 668 deaths from suicide in our country and the statistics show this number is increasing.
END:VEVENT
END:VCALENDAR