BEGIN:VCALENDAR
PRODID:-//nzccp.co.nz//EN
VERSION:2.0
METHOD:PUBLISH
BEGIN:VEVENT
DTSTART;TZID=America/New_York:2020026T9
DTEND;TZID=America/New_York:2020027T17
URL:https://nzccp.co.nz/events/workshops-and-seminars/compassion-focus-therapy/
SUMMARY:Introduction to Compassion Focus Therapy, Auckland, 26-27 March
LOCATION:
DESCRIPTION:Professor Paul Gilbert the founder of Compassion Focused Therapy is running a 2 day workshop on 26th &amp; 27th March 2020  on Compassion Focus Therapy prior to the Goodfellow Symposium. This is his first visit to NZ.
END:VEVENT
END:VCALENDAR