BEGIN:VCALENDAR
PRODID:-//nzccp.co.nz//EN
VERSION:2.0
METHOD:PUBLISH
BEGIN:VEVENT
DTSTART;TZID=America/New_York:2020021T9
DTEND;TZID=America/New_York:2020021T16
URL:https://nzccp.co.nz/events/workshops-and-seminars/clinical-practice-issues-in-the-fasd-field-wellington-21-february/
SUMMARY:Clinical Practice Issues in the FASD Field, Wellington, 21 February
LOCATION:
DESCRIPTION:With Clinical Psychologists Dr Andi Crawford and Cristina Fon

********************
WHEN: 9. 30 - 4.
END:VEVENT
END:VCALENDAR