BEGIN:VCALENDAR
PRODID:-//nzccp.co.nz//EN
VERSION:2.0
METHOD:PUBLISH
BEGIN:VEVENT
DTSTART;TZID=America/New_York:2020010T0
DTEND;TZID=America/New_York:2020010T0
URL:https://nzccp.co.nz/events/workshops-and-seminars/working-with-the-impact-of-developmental-trauma-on-sexuality-and-intimacy/
SUMMARY:Working with the impact of Developmental Trauma on Sexuality and Intimacy, Auckland, 10 March
LOCATION:
DESCRIPTION:STNZ invites you to a one day workshop by

Dr Aline Zoldbrod 

Date:          Tuesday 10th March 2020

Venue:       Sorrento in the Park, 670 Manukau Rd, Royal Oak, Green Lane,                      Auckland

Cost:         Early bird until (31 January) $265 (inc GST)

     ...
END:VEVENT
END:VCALENDAR