BEGIN:VCALENDAR
PRODID:-//nzccp.co.nz//EN
VERSION:2.0
METHOD:PUBLISH
BEGIN:VEVENT
DTSTART;TZID=America/New_York:2020024T0
DTEND;TZID=America/New_York:2020024T0
URL:https://nzccp.co.nz/events/workshops-and-seminars/new-page/
SUMMARY:Māori suicide prevention: Research, policy and practice, Wellington, 24 February
LOCATION:
DESCRIPTION:Māori suicide rates are at an all-time highExplore and discuss the current evidence concerning Māori suicide with specific attention to the context of Māori suicide; changing policies and practice based on published research as well as the intuitive knowledge and practices of our communities.
END:VEVENT
END:VCALENDAR