BEGIN:VCALENDAR
PRODID:-//nzccp.co.nz//EN
VERSION:2.0
METHOD:PUBLISH
BEGIN:VEVENT
DTSTART;TZID=America/New_York:202106T9
DTEND;TZID=America/New_York:202107T15
URL:https://nzccp.co.nz/events/workshops-and-seminars/act-and-exposure-response-prevention-for-ocd-wellington/
SUMMARY:ACT &amp; Exposure Response Prevention for OCD, Wellington, 6-7 May 
LOCATION:
DESCRIPTION:A 2 day workshop for mental health clinicians with Ben Sedley

Thursday 6th &amp; Friday 7th of May, 2021, Wellington. Exposure and Response Prevention (ERP) is the most effective treatment for OCD. Integrating ACT enhances ERP therapy by increasing precision and connecting behaviour to client values.
END:VEVENT
END:VCALENDAR