BEGIN:VCALENDAR
PRODID:-//nzccp.co.nz//EN
VERSION:2.0
METHOD:PUBLISH
BEGIN:VEVENT
DTSTART;TZID=America/New_York:2020028T9
DTEND;TZID=America/New_York:2020029T17
URL:https://nzccp.co.nz/events/workshops-and-seminars/2017-trauma-education-presented-by-dr-leah-giarratano/
SUMMARY:2020 Trauma Education presented by Dr Leah Giarratano
LOCATION:
DESCRIPTION:Clinical skills for treating posttraumatic stress disorder (Treating PTSD Day 1-2)

28 - 29 May 2020, Auckland (NZ) CBD
Clinical skills for treating complex traumatisation (Treating Complex Trauma: Day 3-4)

 25 - 26 June 2020, Auckland (NZ) CBD
For more information about the Auckland and other Australian offerings go to this or the links above

For details about these offerings and books by Leah Giarratano refer to www....
END:VEVENT
END:VCALENDAR